BEGIN:VCALENDAR
VERSION:2.0
PRODID:-//Gunman Airsoft - ECPv6.15.17.1//NONSGML v1.0//EN
CALSCALE:GREGORIAN
METHOD:PUBLISH
X-WR-CALNAME:Gunman Airsoft
X-ORIGINAL-URL:https://gunmanairsoft.co.uk
X-WR-CALDESC:Events for Gunman Airsoft
REFRESH-INTERVAL;VALUE=DURATION:PT1H
X-Robots-Tag:noindex
X-PUBLISHED-TTL:PT1H
BEGIN:VTIMEZONE
TZID:Europe/London
BEGIN:DAYLIGHT
TZOFFSETFROM:+0000
TZOFFSETTO:+0100
TZNAME:BST
DTSTART:20240331T010000
END:DAYLIGHT
BEGIN:STANDARD
TZOFFSETFROM:+0100
TZOFFSETTO:+0000
TZNAME:GMT
DTSTART:20241027T010000
END:STANDARD
BEGIN:DAYLIGHT
TZOFFSETFROM:+0000
TZOFFSETTO:+0100
TZNAME:BST
DTSTART:20250330T010000
END:DAYLIGHT
BEGIN:STANDARD
TZOFFSETFROM:+0100
TZOFFSETTO:+0000
TZNAME:GMT
DTSTART:20251026T010000
END:STANDARD
BEGIN:DAYLIGHT
TZOFFSETFROM:+0000
TZOFFSETTO:+0100
TZNAME:BST
DTSTART:20260329T010000
END:DAYLIGHT
BEGIN:STANDARD
TZOFFSETFROM:+0100
TZOFFSETTO:+0000
TZNAME:GMT
DTSTART:20261025T010000
END:STANDARD
END:VTIMEZONE
BEGIN:VEVENT
DTSTART;VALUE=DATE:20250517
DTEND;VALUE=DATE:20250519
DTSTAMP:20260422T142610
CREATED:20241203T184316Z
LAST-MODIFIED:20250513T113635Z
UID:10000750-1747440000-1747612799@gunmanairsoft.co.uk
SUMMARY:Eversley: Camp Alpha (Hampshire) - Filmsim Weekend (Green vs Tan - All welcome)
DESCRIPTION:Border Conflict.\nThe remote region of Eversley sits as disputed territory between two long feuding neighbouring countries. Until recently the area was a quiet region dotted with small mining and forestry industries that would smuggle their goods across both borders for sale on the international markets. What Topographical and Geological knowledge there is of the region dates back to the 1950s when the borders were drawn up and the region largely left forgotten. \nRumours have spread of Rare Earth Minerals being detected in recent months and the attention of both countries now turns to settling the border\, and fate of the region once and for all. To this end\, both countries have employed the services of independent contractors to secretly survey and secure areas of the region rich in resources. \nThe two contractors; G.R.E.E.N (Global Resource Exploration and Extraction iNternational) and T.A.N. (Technology Appropriation Network) have both been tasked to \n– Infiltrate the Eversley region\n– Reconnoitre the locations of natural resources\n– Survey the locations that look promising for sampling\n– Secure any existing industrial capacity\n– Minimise news of their operations from leaving the region\, this includes negative interactions with locals. \nBoth contractors know that only one of them can come out on top by claiming the region for their employer\, and securing their share of the wealth of the region. \nThe Border Conflict is about to warm up…
URL:https://gunmanairsoft.co.uk/event/eversley-camp-alpha-hampshire-filmsim-weekend-4/
LOCATION:Gunman Eversley Alpha (Hampshire)\, Gunman Airsoft - Eversley The Welsh Dr (Off A327)\, Hook\, Hampshire\, RG27 0PX\, United Kingdom
CATEGORIES:FilmSim Open Days,Open Days
ATTACH;FMTTYPE=image/jpeg:https://gunmanairsoft.co.uk/wp-content/uploads/2022/11/Polish_20211110_170641858-e1668634296857.jpg
GEO:51.3351139;-0.8926687
X-APPLE-STRUCTURED-LOCATION;VALUE=URI;X-ADDRESS=Gunman Eversley Alpha (Hampshire) Gunman Airsoft - Eversley The Welsh Dr (Off A327) Hook Hampshire RG27 0PX United Kingdom;X-APPLE-RADIUS=500;X-TITLE=Gunman Airsoft - Eversley The Welsh Dr (Off A327):geo:-0.8926687,51.3351139
END:VEVENT
BEGIN:VEVENT
DTSTART;VALUE=DATE:20250510
DTEND;VALUE=DATE:20250512
DTSTAMP:20260422T142610
CREATED:20241203T181059Z
LAST-MODIFIED:20250507T070727Z
UID:10000739-1746835200-1747007999@gunmanairsoft.co.uk
SUMMARY:Tuddenham (Suffolk) Battlefield Skirmish Weekend
DESCRIPTION:
URL:https://gunmanairsoft.co.uk/event/tuddenham-suffolk-battlefield-skirmish-weekend-4/
LOCATION:Gunman Tuddenham (Suffolk)\, Gunman Airsoft Tuddenham\, Bury St Edmunds\, Suffolk\, IP28 6DF\, United Kingdom
CATEGORIES:Battlefield Open Days,Open Days,Skirmish Open Days
ATTACH;FMTTYPE=image/png:https://gunmanairsoft.co.uk/wp-content/uploads/2024/12/2025-05-Battlefield-Promo-1.png
GEO:52.3042975;0.5664033
X-APPLE-STRUCTURED-LOCATION;VALUE=URI;X-ADDRESS=Gunman Tuddenham (Suffolk) Gunman Airsoft Tuddenham Bury St Edmunds Suffolk IP28 6DF United Kingdom;X-APPLE-RADIUS=500;X-TITLE=Gunman Airsoft Tuddenham:geo:0.5664033,52.3042975
END:VEVENT
BEGIN:VEVENT
DTSTART;VALUE=DATE:20250510
DTEND;VALUE=DATE:20250512
DTSTAMP:20260422T142610
CREATED:20241203T171408Z
LAST-MODIFIED:20241203T171408Z
UID:10000713-1746835200-1747007999@gunmanairsoft.co.uk
SUMMARY:Eversley: Camp Bravo (Hampshire) Skirmish Weekend
DESCRIPTION:
URL:https://gunmanairsoft.co.uk/event/eversley-camp-bravo-hampshire-skirmish-weekend-12/
LOCATION:Gunman Eversley Bravo (Hampshire)\, Gunman Airsoft - Camp Bravo\, Eversley\, Hampshire\, RG27 0PY\, United Kingdom
CATEGORIES:Open Days,Skirmish Open Days
ATTACH;FMTTYPE=image/jpeg:https://gunmanairsoft.co.uk/wp-content/uploads/2021/05/Polish_20210613_174147786-e1623602736577.jpg
GEO:51.3357261;-0.8787878
X-APPLE-STRUCTURED-LOCATION;VALUE=URI;X-ADDRESS=Gunman Eversley Bravo (Hampshire) Gunman Airsoft - Camp Bravo Eversley Hampshire RG27 0PY United Kingdom;X-APPLE-RADIUS=500;X-TITLE=Gunman Airsoft - Camp Bravo:geo:-0.8787878,51.3357261
END:VEVENT
BEGIN:VEVENT
DTSTART;VALUE=DATE:20250503
DTEND;VALUE=DATE:20250504
DTSTAMP:20260422T142610
CREATED:20250228T143128Z
LAST-MODIFIED:20250328T122932Z
UID:10000805-1746230400-1746316799@gunmanairsoft.co.uk
SUMMARY:Bulby (Lincs/Cambs) Skirmish Open Day
DESCRIPTION:We will temporarily be running on the first Saturday of every month only until we have sufficient players to open up for a full weekend.\nWe will be using a slightly modified version of our skirmish ruleset.
URL:https://gunmanairsoft.co.uk/event/ffz-bulby-may-2025/
LOCATION:Gunman Bulby – Lincs/Cambs\, Irnham\, Bourne PE10 0RU\, Peterborough\, Lincolnshire\, PE10 0RU\, United Kingdom
CATEGORIES:Open Days,Skirmish Open Days
ATTACH;FMTTYPE=image/png:https://gunmanairsoft.co.uk/wp-content/uploads/2025/01/FFZ-Header.png
GEO:52.83052778;-0.44533333
X-APPLE-STRUCTURED-LOCATION;VALUE=URI;X-ADDRESS=Gunman Bulby – Lincs/Cambs Irnham Bourne PE10 0RU Peterborough Lincolnshire PE10 0RU United Kingdom;X-APPLE-RADIUS=500;X-TITLE=Irnham\, Bourne PE10 0RU:geo:-0.44533333,52.83052778
END:VEVENT
BEGIN:VEVENT
DTSTART;VALUE=DATE:20250503
DTEND;VALUE=DATE:20250505
DTSTAMP:20260422T142610
CREATED:20241203T171219Z
LAST-MODIFIED:20241203T171219Z
UID:10000712-1746230400-1746403199@gunmanairsoft.co.uk
SUMMARY:Eversley: Camp Bravo (Hampshire) Skirmish Weekend
DESCRIPTION:
URL:https://gunmanairsoft.co.uk/event/eversley-camp-bravo-hampshire-skirmish-weekend-11/
LOCATION:Gunman Eversley Bravo (Hampshire)\, Gunman Airsoft - Camp Bravo\, Eversley\, Hampshire\, RG27 0PY\, United Kingdom
CATEGORIES:Open Days,Skirmish Open Days
ATTACH;FMTTYPE=image/jpeg:https://gunmanairsoft.co.uk/wp-content/uploads/2021/05/Polish_20210613_174147786-e1623602736577.jpg
GEO:51.3357261;-0.8787878
X-APPLE-STRUCTURED-LOCATION;VALUE=URI;X-ADDRESS=Gunman Eversley Bravo (Hampshire) Gunman Airsoft - Camp Bravo Eversley Hampshire RG27 0PY United Kingdom;X-APPLE-RADIUS=500;X-TITLE=Gunman Airsoft - Camp Bravo:geo:-0.8787878,51.3357261
END:VEVENT
BEGIN:VEVENT
DTSTART;VALUE=DATE:20250503
DTEND;VALUE=DATE:20250504
DTSTAMP:20260422T142610
CREATED:20241203T162747Z
LAST-MODIFIED:20250212T021856Z
UID:10000694-1746230400-1746316799@gunmanairsoft.co.uk
SUMMARY:Battle Lakes (Kent) Filmsim Saturday Only
DESCRIPTION:
URL:https://gunmanairsoft.co.uk/event/battle-lakes-kent-filmsim-weekend-4/
LOCATION:Gunman Battle Lakes – Kent\, Gunman Airsoft - Battle Lakes\, Court Lodge Down\, Hawkenbury Road\, Bells Yew Green\, Tunbridge Wells\, Kent\, TN3 9AN\, United Kingdom
CATEGORIES:FilmSim Open Days,Open Days
ATTACH;FMTTYPE=image/jpeg:https://gunmanairsoft.co.uk/wp-content/uploads/2021/05/Polish_20210525_123413070-e1621943877455.jpg
GEO:51.1038089;0.3003206
X-APPLE-STRUCTURED-LOCATION;VALUE=URI;X-ADDRESS=Gunman Battle Lakes – Kent Gunman Airsoft - Battle Lakes Court Lodge Down Hawkenbury Road Bells Yew Green Tunbridge Wells Kent TN3 9AN United Kingdom;X-APPLE-RADIUS=500;X-TITLE=Gunman Airsoft - Battle Lakes\, Court Lodge Down\, Hawkenbury Road\, Bells Yew Green:geo:0.3003206,51.1038089
END:VEVENT
BEGIN:VEVENT
DTSTART;TZID=Europe/London:20250502T180000
DTEND;TZID=Europe/London:20250502T220000
DTSTAMP:20260422T142610
CREATED:20241209T120545Z
LAST-MODIFIED:20241209T120545Z
UID:10000788-1746208800-1746223200@gunmanairsoft.co.uk
SUMMARY:Night Ops at Camp Bravo
DESCRIPTION:Gates open at 1800. \nSpaces are limited and must be booked by emailing boston@gunmanairsoft.co.uk. \nYou MUST bring some kind of torch. \n\n\n\n\nThink you’ve experienced everything at airsoft?\nThink you know the site like the back of your hand?\nThink again.\nNight games are a chance to experience airsoft\, and our site like you never have before.\n£15 per person. Rental guns available for £15\nMeal deal available for £7. Food and drinks available.
URL:https://gunmanairsoft.co.uk/event/night-ops-at-camp-bravo-19/
LOCATION:Gunman Eversley Bravo (Hampshire)\, Gunman Airsoft - Camp Bravo\, Eversley\, Hampshire\, RG27 0PY\, United Kingdom
CATEGORIES:Night Games
ATTACH;FMTTYPE=image/jpeg:https://gunmanairsoft.co.uk/wp-content/uploads/2021/04/Polish_20210525_120539134-e1623083714263.jpg
GEO:51.3357261;-0.8787878
X-APPLE-STRUCTURED-LOCATION;VALUE=URI;X-ADDRESS=Gunman Eversley Bravo (Hampshire) Gunman Airsoft - Camp Bravo Eversley Hampshire RG27 0PY United Kingdom;X-APPLE-RADIUS=500;X-TITLE=Gunman Airsoft - Camp Bravo:geo:-0.8787878,51.3357261
END:VEVENT
BEGIN:VEVENT
DTSTART;VALUE=DATE:20250426
DTEND;VALUE=DATE:20250428
DTSTAMP:20260422T142610
CREATED:20241203T193317Z
LAST-MODIFIED:20250407T152854Z
UID:10000771-1745625600-1745798399@gunmanairsoft.co.uk
SUMMARY:Tuddenham (Suffolk) Ash’s Fairwell Skirmish Weekend
DESCRIPTION:
URL:https://gunmanairsoft.co.uk/event/tuddenham-suffolk-skirmish-weekend-3/
LOCATION:Gunman Tuddenham (Suffolk)\, Gunman Airsoft Tuddenham\, Bury St Edmunds\, Suffolk\, IP28 6DF\, United Kingdom
CATEGORIES:Open Days,Skirmish Open Days
ATTACH;FMTTYPE=image/png:https://gunmanairsoft.co.uk/wp-content/uploads/2024/12/2025-04-Skirmish-Promo-1.png
GEO:52.3042975;0.5664033
X-APPLE-STRUCTURED-LOCATION;VALUE=URI;X-ADDRESS=Gunman Tuddenham (Suffolk) Gunman Airsoft Tuddenham Bury St Edmunds Suffolk IP28 6DF United Kingdom;X-APPLE-RADIUS=500;X-TITLE=Gunman Airsoft Tuddenham:geo:0.5664033,52.3042975
END:VEVENT
BEGIN:VEVENT
DTSTART;VALUE=DATE:20250426
DTEND;VALUE=DATE:20250428
DTSTAMP:20260422T142610
CREATED:20241203T171013Z
LAST-MODIFIED:20241203T171013Z
UID:10000711-1745625600-1745798399@gunmanairsoft.co.uk
SUMMARY:Eversley: Camp Bravo (Hampshire) Skirmish Weekend
DESCRIPTION:
URL:https://gunmanairsoft.co.uk/event/eversley-camp-bravo-hampshire-skirmish-weekend-10/
LOCATION:Gunman Eversley Bravo (Hampshire)\, Gunman Airsoft - Camp Bravo\, Eversley\, Hampshire\, RG27 0PY\, United Kingdom
CATEGORIES:Open Days,Skirmish Open Days
ATTACH;FMTTYPE=image/jpeg:https://gunmanairsoft.co.uk/wp-content/uploads/2021/05/Polish_20210613_174147786-e1623602736577.jpg
GEO:51.3357261;-0.8787878
X-APPLE-STRUCTURED-LOCATION;VALUE=URI;X-ADDRESS=Gunman Eversley Bravo (Hampshire) Gunman Airsoft - Camp Bravo Eversley Hampshire RG27 0PY United Kingdom;X-APPLE-RADIUS=500;X-TITLE=Gunman Airsoft - Camp Bravo:geo:-0.8787878,51.3357261
END:VEVENT
BEGIN:VEVENT
DTSTART;TZID=Europe/London:20250425T180000
DTEND;TZID=Europe/London:20250425T220000
DTSTAMP:20260422T142610
CREATED:20241209T120529Z
LAST-MODIFIED:20241209T120529Z
UID:10000787-1745604000-1745618400@gunmanairsoft.co.uk
SUMMARY:Night Ops at Camp Bravo
DESCRIPTION:Gates open at 1800. \nSpaces are limited and must be booked by emailing boston@gunmanairsoft.co.uk. \nYou MUST bring some kind of torch. \n\n\n\n\nThink you’ve experienced everything at airsoft?\nThink you know the site like the back of your hand?\nThink again.\nNight games are a chance to experience airsoft\, and our site like you never have before.\n£15 per person. Rental guns available for £15\nMeal deal available for £7. Food and drinks available.
URL:https://gunmanairsoft.co.uk/event/night-ops-at-camp-bravo-18/
LOCATION:Gunman Eversley Bravo (Hampshire)\, Gunman Airsoft - Camp Bravo\, Eversley\, Hampshire\, RG27 0PY\, United Kingdom
CATEGORIES:Night Games
ATTACH;FMTTYPE=image/jpeg:https://gunmanairsoft.co.uk/wp-content/uploads/2021/04/Polish_20210525_120539134-e1623083714263.jpg
GEO:51.3357261;-0.8787878
X-APPLE-STRUCTURED-LOCATION;VALUE=URI;X-ADDRESS=Gunman Eversley Bravo (Hampshire) Gunman Airsoft - Camp Bravo Eversley Hampshire RG27 0PY United Kingdom;X-APPLE-RADIUS=500;X-TITLE=Gunman Airsoft - Camp Bravo:geo:-0.8787878,51.3357261
END:VEVENT
END:VCALENDAR