BEGIN:VCALENDAR
VERSION:2.0
PRODID:-//Gunman Airsoft - ECPv6.15.17.1//NONSGML v1.0//EN
CALSCALE:GREGORIAN
METHOD:PUBLISH
X-WR-CALNAME:Gunman Airsoft
X-ORIGINAL-URL:https://gunmanairsoft.co.uk
X-WR-CALDESC:Events for Gunman Airsoft
REFRESH-INTERVAL;VALUE=DURATION:PT1H
X-Robots-Tag:noindex
X-PUBLISHED-TTL:PT1H
BEGIN:VTIMEZONE
TZID:Europe/London
BEGIN:DAYLIGHT
TZOFFSETFROM:+0000
TZOFFSETTO:+0100
TZNAME:BST
DTSTART:20250330T010000
END:DAYLIGHT
BEGIN:STANDARD
TZOFFSETFROM:+0100
TZOFFSETTO:+0000
TZNAME:GMT
DTSTART:20251026T010000
END:STANDARD
BEGIN:DAYLIGHT
TZOFFSETFROM:+0000
TZOFFSETTO:+0100
TZNAME:BST
DTSTART:20260329T010000
END:DAYLIGHT
BEGIN:STANDARD
TZOFFSETFROM:+0100
TZOFFSETTO:+0000
TZNAME:GMT
DTSTART:20261025T010000
END:STANDARD
BEGIN:DAYLIGHT
TZOFFSETFROM:+0000
TZOFFSETTO:+0100
TZNAME:BST
DTSTART:20270328T010000
END:DAYLIGHT
BEGIN:STANDARD
TZOFFSETFROM:+0100
TZOFFSETTO:+0000
TZNAME:GMT
DTSTART:20271031T010000
END:STANDARD
END:VTIMEZONE
BEGIN:VEVENT
DTSTART;TZID=Europe/London:20260501T180000
DTEND;TZID=Europe/London:20260501T220000
DTSTAMP:20260425T151356
CREATED:20251216T235645Z
LAST-MODIFIED:20251216T235645Z
UID:10000875-1777658400-1777672800@gunmanairsoft.co.uk
SUMMARY:Night Ops at Camp Bravo
DESCRIPTION:Gates open at 1800. \nSpaces are limited and must be booked by emailing boston@gunmanairsoft.co.uk. \nYou MUST bring some kind of torch. \n\n\n\n\nThink you’ve experienced everything at airsoft?\nThink you know the site like the back of your hand?\nThink again.\nNight games are a chance to experience airsoft\, and our site like you never have before.\n£20 per person. Rental guns available for £15\nMeal deal available for £7. Food and drinks available.
URL:https://gunmanairsoft.co.uk/event/night-ops-at-camp-bravo/2026-05-01/
LOCATION:Gunman Eversley Bravo (Hampshire)\, Gunman Airsoft - Camp Bravo\, Eversley\, Hampshire\, RG27 0PY\, United Kingdom
CATEGORIES:Night Games
ATTACH;FMTTYPE=image/jpeg:https://gunmanairsoft.co.uk/wp-content/uploads/2021/04/Polish_20210525_120539134-e1623083714263.jpg
GEO:51.3357261;-0.8787878
X-APPLE-STRUCTURED-LOCATION;VALUE=URI;X-ADDRESS=Gunman Eversley Bravo (Hampshire) Gunman Airsoft - Camp Bravo Eversley Hampshire RG27 0PY United Kingdom;X-APPLE-RADIUS=500;X-TITLE=Gunman Airsoft - Camp Bravo:geo:-0.8787878,51.3357261
END:VEVENT
BEGIN:VEVENT
DTSTART;VALUE=DATE:20260516
DTEND;VALUE=DATE:20260518
DTSTAMP:20260425T151356
CREATED:20251216T231315Z
LAST-MODIFIED:20251216T231315Z
UID:10000951-1778889600-1779062399@gunmanairsoft.co.uk
SUMMARY:Camp Alpha (Hampshire) - Filmsim 16th & 17th May 2026 Weekend
DESCRIPTION:
URL:https://gunmanairsoft.co.uk/event/camp-alpha-hampshire-filmsim-16th-17th-may-2026-weekend/
LOCATION:Gunman Eversley Alpha (Hampshire)\, Gunman Airsoft - Eversley The Welsh Dr (Off A327)\, Hook\, Hampshire\, RG27 0PX\, United Kingdom
CATEGORIES:FilmSim Open Days,Open Days
ATTACH;FMTTYPE=image/jpeg:https://gunmanairsoft.co.uk/wp-content/uploads/2022/11/Polish_20211110_170641858-e1668634296857.jpg
GEO:51.3351139;-0.8926687
X-APPLE-STRUCTURED-LOCATION;VALUE=URI;X-ADDRESS=Gunman Eversley Alpha (Hampshire) Gunman Airsoft - Eversley The Welsh Dr (Off A327) Hook Hampshire RG27 0PX United Kingdom;X-APPLE-RADIUS=500;X-TITLE=Gunman Airsoft - Eversley The Welsh Dr (Off A327):geo:-0.8926687,51.3351139
END:VEVENT
BEGIN:VEVENT
DTSTART;TZID=Europe/London:20260529T180000
DTEND;TZID=Europe/London:20260529T220000
DTSTAMP:20260425T151356
CREATED:20251216T235850Z
LAST-MODIFIED:20251216T235850Z
UID:10000853-1780077600-1780092000@gunmanairsoft.co.uk
SUMMARY:Night Ops at Camp Bravo
DESCRIPTION:Gates open at 1800. \nSpaces are limited and must be booked by emailing boston@gunmanairsoft.co.uk. \nYou MUST bring some kind of torch. \n\n\n\n\nThink you’ve experienced everything at airsoft?\nThink you know the site like the back of your hand?\nThink again.\nNight games are a chance to experience airsoft\, and our site like you never have before.\n£20 per person. Rental guns available for £15\nMeal deal available for £7. Food and drinks available.
URL:https://gunmanairsoft.co.uk/event/night-ops-at-camp-bravo-6/2026-05-29/
LOCATION:Gunman Eversley Bravo (Hampshire)\, Gunman Airsoft - Camp Bravo\, Eversley\, Hampshire\, RG27 0PY\, United Kingdom
CATEGORIES:Night Games
ATTACH;FMTTYPE=image/jpeg:https://gunmanairsoft.co.uk/wp-content/uploads/2021/04/Polish_20210525_120539134-e1623083714263.jpg
GEO:51.3357261;-0.8787878
X-APPLE-STRUCTURED-LOCATION;VALUE=URI;X-ADDRESS=Gunman Eversley Bravo (Hampshire) Gunman Airsoft - Camp Bravo Eversley Hampshire RG27 0PY United Kingdom;X-APPLE-RADIUS=500;X-TITLE=Gunman Airsoft - Camp Bravo:geo:-0.8787878,51.3357261
END:VEVENT
END:VCALENDAR