BEGIN:VCALENDAR
VERSION:2.0
PRODID:-//Gunman Airsoft - ECPv6.15.17.1//NONSGML v1.0//EN
CALSCALE:GREGORIAN
METHOD:PUBLISH
X-WR-CALNAME:Gunman Airsoft
X-ORIGINAL-URL:https://gunmanairsoft.co.uk
X-WR-CALDESC:Events for Gunman Airsoft
REFRESH-INTERVAL;VALUE=DURATION:PT1H
X-Robots-Tag:noindex
X-PUBLISHED-TTL:PT1H
BEGIN:VTIMEZONE
TZID:Europe/London
BEGIN:DAYLIGHT
TZOFFSETFROM:+0000
TZOFFSETTO:+0100
TZNAME:BST
DTSTART:20240331T010000
END:DAYLIGHT
BEGIN:STANDARD
TZOFFSETFROM:+0100
TZOFFSETTO:+0000
TZNAME:GMT
DTSTART:20241027T010000
END:STANDARD
BEGIN:DAYLIGHT
TZOFFSETFROM:+0000
TZOFFSETTO:+0100
TZNAME:BST
DTSTART:20250330T010000
END:DAYLIGHT
BEGIN:STANDARD
TZOFFSETFROM:+0100
TZOFFSETTO:+0000
TZNAME:GMT
DTSTART:20251026T010000
END:STANDARD
BEGIN:DAYLIGHT
TZOFFSETFROM:+0000
TZOFFSETTO:+0100
TZNAME:BST
DTSTART:20260329T010000
END:DAYLIGHT
BEGIN:STANDARD
TZOFFSETFROM:+0100
TZOFFSETTO:+0000
TZNAME:GMT
DTSTART:20261025T010000
END:STANDARD
END:VTIMEZONE
BEGIN:VEVENT
DTSTART;VALUE=DATE:20250802
DTEND;VALUE=DATE:20250804
DTSTAMP:20260421T105447
CREATED:20241203T172838Z
LAST-MODIFIED:20241203T172838Z
UID:10000721-1754092800-1754265599@gunmanairsoft.co.uk
SUMMARY:Eversley: Camp Bravo (Hampshire) Skirmish Weekend
DESCRIPTION:
URL:https://gunmanairsoft.co.uk/event/eversley-camp-bravo-hampshire-skirmish-weekend-20/
LOCATION:Gunman Eversley Bravo (Hampshire)\, Gunman Airsoft - Camp Bravo\, Eversley\, Hampshire\, RG27 0PY\, United Kingdom
CATEGORIES:Open Days,Skirmish Open Days
ATTACH;FMTTYPE=image/jpeg:https://gunmanairsoft.co.uk/wp-content/uploads/2021/05/Polish_20210613_174147786-e1623602736577.jpg
GEO:51.3357261;-0.8787878
X-APPLE-STRUCTURED-LOCATION;VALUE=URI;X-ADDRESS=Gunman Eversley Bravo (Hampshire) Gunman Airsoft - Camp Bravo Eversley Hampshire RG27 0PY United Kingdom;X-APPLE-RADIUS=500;X-TITLE=Gunman Airsoft - Camp Bravo:geo:-0.8787878,51.3357261
END:VEVENT
BEGIN:VEVENT
DTSTART;VALUE=DATE:20250809
DTEND;VALUE=DATE:20250811
DTSTAMP:20260421T105447
CREATED:20241203T173020Z
LAST-MODIFIED:20241203T173020Z
UID:10000722-1754697600-1754870399@gunmanairsoft.co.uk
SUMMARY:Eversley: Camp Bravo (Hampshire) Skirmish Weekend
DESCRIPTION:
URL:https://gunmanairsoft.co.uk/event/eversley-camp-bravo-hampshire-skirmish-weekend-21/
LOCATION:Gunman Eversley Bravo (Hampshire)\, Gunman Airsoft - Camp Bravo\, Eversley\, Hampshire\, RG27 0PY\, United Kingdom
CATEGORIES:Open Days,Skirmish Open Days
ATTACH;FMTTYPE=image/jpeg:https://gunmanairsoft.co.uk/wp-content/uploads/2021/05/Polish_20210613_174147786-e1623602736577.jpg
GEO:51.3357261;-0.8787878
X-APPLE-STRUCTURED-LOCATION;VALUE=URI;X-ADDRESS=Gunman Eversley Bravo (Hampshire) Gunman Airsoft - Camp Bravo Eversley Hampshire RG27 0PY United Kingdom;X-APPLE-RADIUS=500;X-TITLE=Gunman Airsoft - Camp Bravo:geo:-0.8787878,51.3357261
END:VEVENT
BEGIN:VEVENT
DTSTART;VALUE=DATE:20250809
DTEND;VALUE=DATE:20250811
DTSTAMP:20260421T105447
CREATED:20241203T181721Z
LAST-MODIFIED:20250729T194342Z
UID:10000742-1754697600-1754870399@gunmanairsoft.co.uk
SUMMARY:Tuddenham (Suffolk) Battlefield Skirmish Weekend
DESCRIPTION:
URL:https://gunmanairsoft.co.uk/event/tuddenham-suffolk-battlefield-skirmish-weekend-7/
LOCATION:Gunman Tuddenham (Suffolk)\, Gunman Airsoft Tuddenham\, Bury St Edmunds\, Suffolk\, IP28 6DF\, United Kingdom
CATEGORIES:Battlefield Open Days,Open Days,Skirmish Open Days
ATTACH;FMTTYPE=image/png:https://gunmanairsoft.co.uk/wp-content/uploads/2024/12/2025-08-Battlefield-Promo-1.png
GEO:52.3042975;0.5664033
X-APPLE-STRUCTURED-LOCATION;VALUE=URI;X-ADDRESS=Gunman Tuddenham (Suffolk) Gunman Airsoft Tuddenham Bury St Edmunds Suffolk IP28 6DF United Kingdom;X-APPLE-RADIUS=500;X-TITLE=Gunman Airsoft Tuddenham:geo:0.5664033,52.3042975
END:VEVENT
BEGIN:VEVENT
DTSTART;VALUE=DATE:20250830
DTEND;VALUE=DATE:20250901
DTSTAMP:20260421T105447
CREATED:20241203T173219Z
LAST-MODIFIED:20241203T173219Z
UID:10000723-1756512000-1756684799@gunmanairsoft.co.uk
SUMMARY:Eversley: Camp Bravo (Hampshire) Skirmish Weekend
DESCRIPTION:
URL:https://gunmanairsoft.co.uk/event/eversley-camp-bravo-hampshire-skirmish-weekend-22/
LOCATION:Gunman Eversley Bravo (Hampshire)\, Gunman Airsoft - Camp Bravo\, Eversley\, Hampshire\, RG27 0PY\, United Kingdom
CATEGORIES:Open Days,Skirmish Open Days
ATTACH;FMTTYPE=image/jpeg:https://gunmanairsoft.co.uk/wp-content/uploads/2021/05/Polish_20210613_174147786-e1623602736577.jpg
GEO:51.3357261;-0.8787878
X-APPLE-STRUCTURED-LOCATION;VALUE=URI;X-ADDRESS=Gunman Eversley Bravo (Hampshire) Gunman Airsoft - Camp Bravo Eversley Hampshire RG27 0PY United Kingdom;X-APPLE-RADIUS=500;X-TITLE=Gunman Airsoft - Camp Bravo:geo:-0.8787878,51.3357261
END:VEVENT
BEGIN:VEVENT
DTSTART;VALUE=DATE:20250830
DTEND;VALUE=DATE:20250901
DTSTAMP:20260421T105447
CREATED:20241203T194117Z
LAST-MODIFIED:20250813T132805Z
UID:10000841-1756512000-1756684799@gunmanairsoft.co.uk
SUMMARY:Tuddenham (Suffolk) Skirmish Weekend
DESCRIPTION:
URL:https://gunmanairsoft.co.uk/event/tuddenham-suffolk-skirmish-weekend-7/
LOCATION:Gunman Tuddenham (Suffolk)\, Gunman Airsoft Tuddenham\, Bury St Edmunds\, Suffolk\, IP28 6DF\, United Kingdom
CATEGORIES:Open Days,Skirmish Open Days
ATTACH;FMTTYPE=image/png:https://gunmanairsoft.co.uk/wp-content/uploads/2024/12/2025-08-Skirmish-Promo-1.png
GEO:52.3042975;0.5664033
X-APPLE-STRUCTURED-LOCATION;VALUE=URI;X-ADDRESS=Gunman Tuddenham (Suffolk) Gunman Airsoft Tuddenham Bury St Edmunds Suffolk IP28 6DF United Kingdom;X-APPLE-RADIUS=500;X-TITLE=Gunman Airsoft Tuddenham:geo:0.5664033,52.3042975
END:VEVENT
END:VCALENDAR